BEGIN:VCALENDAR
VERSION:2.0
PRODID:-//enBoscados - ECPv6.15.14//NONSGML v1.0//EN
CALSCALE:GREGORIAN
METHOD:PUBLISH
X-WR-CALNAME:enBoscados
X-ORIGINAL-URL:https://enboscados.org
X-WR-CALDESC:Eventos para enBoscados
REFRESH-INTERVAL;VALUE=DURATION:PT1H
X-Robots-Tag:noindex
X-PUBLISHED-TTL:PT1H
BEGIN:VTIMEZONE
TZID:Europe/Paris
BEGIN:DAYLIGHT
TZOFFSETFROM:+0100
TZOFFSETTO:+0200
TZNAME:CEST
DTSTART:20250330T010000
END:DAYLIGHT
BEGIN:STANDARD
TZOFFSETFROM:+0200
TZOFFSETTO:+0100
TZNAME:CET
DTSTART:20251026T010000
END:STANDARD
BEGIN:DAYLIGHT
TZOFFSETFROM:+0100
TZOFFSETTO:+0200
TZNAME:CEST
DTSTART:20260329T010000
END:DAYLIGHT
BEGIN:STANDARD
TZOFFSETFROM:+0200
TZOFFSETTO:+0100
TZNAME:CET
DTSTART:20261025T010000
END:STANDARD
BEGIN:DAYLIGHT
TZOFFSETFROM:+0100
TZOFFSETTO:+0200
TZNAME:CEST
DTSTART:20270328T010000
END:DAYLIGHT
BEGIN:STANDARD
TZOFFSETFROM:+0200
TZOFFSETTO:+0100
TZNAME:CET
DTSTART:20271031T010000
END:STANDARD
END:VTIMEZONE
BEGIN:VEVENT
DTSTART;TZID=Europe/Paris:20260123T160000
DTEND;TZID=Europe/Paris:20260123T183000
DTSTAMP:20260420T220321
CREATED:20260111T191203Z
LAST-MODIFIED:20260111T191203Z
UID:1052-1769184000-1769193000@enboscados.org
SUMMARY:Friday Forest School (6 a 11 años)
DESCRIPTION:
URL:https://enboscados.org/evento/friday-forest-school-6-a-11-anos/
LOCATION:Villaescusa\, Barrio la Aldea\, La Concha\, 39690
CATEGORIES:bushcraft,extraescolar,forest school,grupos de juego,niñas/niños
ATTACH;FMTTYPE=image/jpeg:https://enboscados.org/wp-content/uploads/2026/01/Friday-Forest-School_invierno-2026-e1768158688130.jpg
ORGANIZER;CN="enBoscados":MAILTO:info@enboscados.org
END:VEVENT
BEGIN:VEVENT
DTSTART;TZID=Europe/Paris:20260118T103000
DTEND;TZID=Europe/Paris:20260118T133000
DTSTAMP:20260420T220321
CREATED:20260111T190450Z
LAST-MODIFIED:20260111T190450Z
UID:1046-1768732200-1768743000@enboscados.org
SUMMARY:Grupo de Juego en la Naturaleza (4 a 11 años)
DESCRIPTION:
URL:https://enboscados.org/evento/grupo-de-juego-en-la-naturaleza-4-a-11-anos/
LOCATION:Naveda\, Hermandad de Campoo de Suso\, Naveda\, Cantabria\, 39210\, España
CATEGORIES:bushcraft,forest school,grupos de juego,jóvenes,niñas/niños,talleres,técnicas de supervivencia
ATTACH;FMTTYPE=image/jpeg:https://enboscados.org/wp-content/uploads/2026/01/GJN-Naveda-e1768158253668.jpeg
ORGANIZER;CN="enBoscados":MAILTO:info@enboscados.org
END:VEVENT
BEGIN:VEVENT
DTSTART;TZID=Europe/Paris:20260112T160000
DTEND;TZID=Europe/Paris:20260112T180000
DTSTAMP:20260420T220321
CREATED:20260111T185252Z
LAST-MODIFIED:20260111T185509Z
UID:1028-1768233600-1768240800@enboscados.org
SUMMARY:Mini Forest School (3 a 5 años)
DESCRIPTION:
URL:https://enboscados.org/evento/mini-forest-school-3-a-5-anos/
LOCATION:Villaescusa\, Barrio la Aldea\, La Concha\, 39690
CATEGORIES:extraescolar,forest school,grupos de juego,mini forest,niñas/niños
ATTACH;FMTTYPE=image/jpeg:https://enboscados.org/wp-content/uploads/2026/01/MINIFOREST-WINTER-e1768157690863.jpg
ORGANIZER;CN="enBoscados":MAILTO:info@enboscados.org
END:VEVENT
END:VCALENDAR